BEGIN:VCALENDAR
VERSION:2.0
PRODID:-//Tukios.com/
BEGIN:VEVENT
UID:97dd7c72-df2b-4e33-b218-022bd983252e@www.tunkhannockfuneralhome.com
DTSTAMP:20260421T215202Z
DTSTART:20260425T160000Z
DTEND:20260425T170000Z
SUMMARY:Funeral Service
DESCRIPTION:
URL:https://www.tunkhannockfuneralhome.com/obituaries/bonita-arthur
LOCATION:Marcho, Sheldon, and Kukuchka Funeral Home & Cremation Care 73 
	West Tioga Street  Tunkhannock PA 18657
GEO:41.5394021;-75.9530231
END:VEVENT
END:VCALENDAR