BEGIN:VCALENDAR
VERSION:2.0
PRODID:-//Tukios.com/
BEGIN:VEVENT
UID:ecc70a17-a052-41f5-8750-23c11378f635@www.tunkhannockfuneralhome.com
DTSTAMP:20260421T215202Z
DTSTART:20260425T150000Z
DTEND:20260425T160000Z
SUMMARY:Public Viewing
DESCRIPTION:
URL:https://www.tunkhannockfuneralhome.com/obituaries/bonita-arthur
LOCATION:Marcho, Sheldon, and Kukuchka Funeral Home & Cremation Care 73 
	West Tioga Street  Tunkhannock PA 18657
GEO:41.5394021;-75.9530231
END:VEVENT
END:VCALENDAR